BEGIN:VCALENDAR
VERSION:2.0
PRODID:-//nwosoa.org - ECPv6.15.17//NONSGML v1.0//EN
CALSCALE:GREGORIAN
METHOD:PUBLISH
X-ORIGINAL-URL:https://nwosoa.org
X-WR-CALDESC:Events for nwosoa.org
REFRESH-INTERVAL;VALUE=DURATION:PT1H
X-Robots-Tag:noindex
X-PUBLISHED-TTL:PT1H
BEGIN:VTIMEZONE
TZID:America/Detroit
BEGIN:DAYLIGHT
TZOFFSETFROM:-0500
TZOFFSETTO:-0400
TZNAME:EDT
DTSTART:20250309T070000
END:DAYLIGHT
BEGIN:STANDARD
TZOFFSETFROM:-0400
TZOFFSETTO:-0500
TZNAME:EST
DTSTART:20251102T060000
END:STANDARD
BEGIN:DAYLIGHT
TZOFFSETFROM:-0500
TZOFFSETTO:-0400
TZNAME:EDT
DTSTART:20260308T070000
END:DAYLIGHT
BEGIN:STANDARD
TZOFFSETFROM:-0400
TZOFFSETTO:-0500
TZNAME:EST
DTSTART:20261101T060000
END:STANDARD
BEGIN:DAYLIGHT
TZOFFSETFROM:-0500
TZOFFSETTO:-0400
TZNAME:EDT
DTSTART:20270314T070000
END:DAYLIGHT
BEGIN:STANDARD
TZOFFSETFROM:-0400
TZOFFSETTO:-0500
TZNAME:EST
DTSTART:20271107T060000
END:STANDARD
END:VTIMEZONE
BEGIN:VEVENT
DTSTART;TZID=America/Detroit:20260221T090000
DTEND;TZID=America/Detroit:20260221T120000
DTSTAMP:20260423T210232
CREATED:20251123T150951Z
LAST-MODIFIED:20251123T151132Z
UID:1282-1771664400-1771675200@nwosoa.org
SUMMARY:New Referee Field Training Session
DESCRIPTION:The mandatory Field Training Session is a practical\, hands-on course where new referees practice skills in an indoor field-like setting with guidance from experienced mentors. Attendees will be jogging\, shuffling\, and running for brief moments throughout the session\, so appropriate footwear (tennis shoes) is important.
URL:https://nwosoa.org/event/new-referee-field-training-session-7/
LOCATION:Bluffton St John Bible Church\, 15988 Road 4\, Pandora\, OH\, 45877\, United States
CATEGORIES:Referee Training,USSF Event
ORGANIZER;CN="Aaron and Danielle Wolfe":MAILTO:wolfe.refs@gmail.com
END:VEVENT
BEGIN:VEVENT
DTSTART;TZID=America/Detroit:20260222T140000
DTEND;TZID=America/Detroit:20260222T153000
DTSTAMP:20260423T210232
CREATED:20251115T180801Z
LAST-MODIFIED:20251115T180801Z
UID:1249-1771768800-1771774200@nwosoa.org
SUMMARY:Recert Meeting
DESCRIPTION:Meetings will be hosted by:  \n\nAaron Wolfe – Toledo District Referee Administrator and Assignor\nDanielle Wolfe – Toledo District Mentor and Assignor\nLocal assignors\, mentors\, and league representatives will also be invited.\n\nMeetings will include: \n\nReview of Laws of Game Changes and Updates\nVideo analysis\nReview of assigning practices and policies\nLocal league discussions\, concerns\, and updates\n\nLocal meeting are STRONGLY recommend for ALL referees\, but specifically whose: \n\nwith less that 3 years experience\nwho have questions about assigning\nare seeking more competitive matches\n\nKindly RSVP by completing this GoogleForm
URL:https://nwosoa.org/event/recert-meeting-3/
LOCATION:BGSU\, Bowling Green\, OH\, 43403
CATEGORIES:Referee Training,USSF Event
ORGANIZER;CN="Aaron and Danielle Wolfe":MAILTO:wolfe.refs@gmail.com
END:VEVENT
BEGIN:VEVENT
DTSTART;TZID=America/Detroit:20260228T090000
DTEND;TZID=America/Detroit:20260228T120000
DTSTAMP:20260423T210232
CREATED:20251123T151325Z
LAST-MODIFIED:20251123T151325Z
UID:1287-1772269200-1772280000@nwosoa.org
SUMMARY:New Referee Field Training Session
DESCRIPTION:The mandatory Field Training Session is a practical\, hands-on course where new referees practice skills in an indoor field-like setting with guidance from experienced mentors. Attendees will be jogging\, shuffling\, and running for brief moments throughout the session\, so appropriate footwear (tennis shoes) is important.
URL:https://nwosoa.org/event/new-referee-field-training-session-8/
LOCATION:BGSU Perry Field House\, 801 N Mercer Rd.\, Bowling Green\, OH\, 43402\, United States
CATEGORIES:Referee Training,USSF Event
ORGANIZER;CN="Aaron and Danielle Wolfe":MAILTO:wolfe.refs@gmail.com
END:VEVENT
END:VCALENDAR