BEGIN:VCALENDAR
VERSION:2.0
PRODID:-//nwosoa.org - ECPv6.15.17//NONSGML v1.0//EN
CALSCALE:GREGORIAN
METHOD:PUBLISH
X-ORIGINAL-URL:https://nwosoa.org
X-WR-CALDESC:Events for nwosoa.org
REFRESH-INTERVAL;VALUE=DURATION:PT1H
X-Robots-Tag:noindex
X-PUBLISHED-TTL:PT1H
BEGIN:VTIMEZONE
TZID:America/Detroit
BEGIN:DAYLIGHT
TZOFFSETFROM:-0500
TZOFFSETTO:-0400
TZNAME:EDT
DTSTART:20210314T070000
END:DAYLIGHT
BEGIN:STANDARD
TZOFFSETFROM:-0400
TZOFFSETTO:-0500
TZNAME:EST
DTSTART:20211107T060000
END:STANDARD
BEGIN:DAYLIGHT
TZOFFSETFROM:-0500
TZOFFSETTO:-0400
TZNAME:EDT
DTSTART:20220313T070000
END:DAYLIGHT
BEGIN:STANDARD
TZOFFSETFROM:-0400
TZOFFSETTO:-0500
TZNAME:EST
DTSTART:20221106T060000
END:STANDARD
BEGIN:DAYLIGHT
TZOFFSETFROM:-0500
TZOFFSETTO:-0400
TZNAME:EDT
DTSTART:20230312T070000
END:DAYLIGHT
BEGIN:STANDARD
TZOFFSETFROM:-0400
TZOFFSETTO:-0500
TZNAME:EST
DTSTART:20231105T060000
END:STANDARD
END:VTIMEZONE
BEGIN:VEVENT
DTSTART;TZID=America/Detroit:20220722T080000
DTEND;TZID=America/Detroit:20220724T190000
DTSTAMP:20260423T165408
CREATED:20220703T164852Z
LAST-MODIFIED:20220703T164852Z
UID:687-1658476800-1658689200@nwosoa.org
SUMMARY:795 Cup HS Soccer Tournament
DESCRIPTION:795 Cup HS Soccer Tournament\nGenoa High School\nAssignor: Tim Memmer\nSign Up to Ref at:  https://www.valentisathletica.com/795-cup\n– games begin at 8am\n– 8-10 time slots/day\n– 30 min halves\n– 2-whistle crew\n– $40 per game reffed\n– hospitality room with AC\, food
URL:https://nwosoa.org/event/795-cup-hs-soccer-tournament/
CATEGORIES:Tourneys
END:VEVENT
BEGIN:VEVENT
DTSTART;VALUE=DATE:20220709
DTEND;VALUE=DATE:20220711
DTSTAMP:20260423T165408
CREATED:20220703T164609Z
LAST-MODIFIED:20220704T211752Z
UID:684-1657324800-1657497599@nwosoa.org
SUMMARY:Pete Raffa Memorial HS Tournament
DESCRIPTION:Pete Raffa Memorial Tournament\nPerrysburg Jr High School\nAssignor: Garrett Reese\n– games start on the hour\n– 45 min games\, running clock\n– no halftime\n– 2-whistle crew\n– $30 per game (proceeds to charity)\n– lunch and water provided \nFor any information or questions please contact Garrett Reese at arsenalgk16@hotmail.com or 419-356-9416.
URL:https://nwosoa.org/event/pete-raffa-memorial-hs-tournament2022/
LOCATION:Perrysburg Junior High School\, 550 E South Boundary St\, Perrysburg\, OH\, 43551\, United States
CATEGORIES:Tourneys
END:VEVENT
END:VCALENDAR