BEGIN:VCALENDAR
VERSION:2.0
PRODID:-//nwosoa.org - ECPv6.15.17//NONSGML v1.0//EN
CALSCALE:GREGORIAN
METHOD:PUBLISH
X-WR-CALNAME:nwosoa.org
X-ORIGINAL-URL:https://nwosoa.org
X-WR-CALDESC:Events for nwosoa.org
REFRESH-INTERVAL;VALUE=DURATION:PT1H
X-Robots-Tag:noindex
X-PUBLISHED-TTL:PT1H
BEGIN:VTIMEZONE
TZID:America/Detroit
BEGIN:DAYLIGHT
TZOFFSETFROM:-0500
TZOFFSETTO:-0400
TZNAME:EDT
DTSTART:20230312T070000
END:DAYLIGHT
BEGIN:STANDARD
TZOFFSETFROM:-0400
TZOFFSETTO:-0500
TZNAME:EST
DTSTART:20231105T060000
END:STANDARD
BEGIN:DAYLIGHT
TZOFFSETFROM:-0500
TZOFFSETTO:-0400
TZNAME:EDT
DTSTART:20240310T070000
END:DAYLIGHT
BEGIN:STANDARD
TZOFFSETFROM:-0400
TZOFFSETTO:-0500
TZNAME:EST
DTSTART:20241103T060000
END:STANDARD
BEGIN:DAYLIGHT
TZOFFSETFROM:-0500
TZOFFSETTO:-0400
TZNAME:EDT
DTSTART:20250309T070000
END:DAYLIGHT
BEGIN:STANDARD
TZOFFSETFROM:-0400
TZOFFSETTO:-0500
TZNAME:EST
DTSTART:20251102T060000
END:STANDARD
BEGIN:DAYLIGHT
TZOFFSETFROM:-0500
TZOFFSETTO:-0400
TZNAME:EDT
DTSTART:20260308T070000
END:DAYLIGHT
BEGIN:STANDARD
TZOFFSETFROM:-0400
TZOFFSETTO:-0500
TZNAME:EST
DTSTART:20261101T060000
END:STANDARD
END:VTIMEZONE
BEGIN:VEVENT
DTSTART;TZID=America/Detroit:20250222T090000
DTEND;TZID=America/Detroit:20250222T120000
DTSTAMP:20260424T023346
CREATED:20241230T161818Z
LAST-MODIFIED:20241230T161818Z
UID:1184-1740214800-1740225600@nwosoa.org
SUMMARY:New Referee Field Training Session @ Bluffton
DESCRIPTION:Become a Youth Soccer Referee 2024-2025 Flyer
URL:https://nwosoa.org/event/new-referee-field-training-session-bluffton-2/
LOCATION:Bluffton St John Bible Church\, 15988 Road 4\, Pandora\, OH\, 45877\, United States
CATEGORIES:Referee Training
ORGANIZER;CN="Aaron and Danielle Wolfe":MAILTO:wolfe.refs@gmail.com
END:VEVENT
BEGIN:VEVENT
DTSTART;TZID=America/Detroit:20250222T090000
DTEND;TZID=America/Detroit:20250222T120000
DTSTAMP:20260424T023346
CREATED:20241230T161348Z
LAST-MODIFIED:20241230T161348Z
UID:1180-1740214800-1740225600@nwosoa.org
SUMMARY:New Referee Field Training Session @ Bowling Green
DESCRIPTION:Become a Youth Soccer Referee 2024-2025 Flyer
URL:https://nwosoa.org/event/new-referee-field-training-session-bowling-green/
LOCATION:BGSU Perry Field House\, 801 N Mercer Rd.\, Bowling Green\, OH\, 43402\, United States
CATEGORIES:Referee Training
ORGANIZER;CN="Aaron and Danielle Wolfe":MAILTO:wolfe.refs@gmail.com
END:VEVENT
BEGIN:VEVENT
DTSTART;TZID=America/Detroit:20250216T150000
DTEND;TZID=America/Detroit:20250216T180000
DTSTAMP:20260424T023346
CREATED:20241230T161119Z
LAST-MODIFIED:20241230T161119Z
UID:1177-1739718000-1739728800@nwosoa.org
SUMMARY:New Referee Field Training Session @ Bryan
DESCRIPTION:Become a Youth Soccer Referee 2024-2025 Flyer
URL:https://nwosoa.org/event/new-referee-field-training-session-bryan/
LOCATION:Bryan Elementary School\, 1301 Center St.\, Bryan\, OH\, 43506\, United States
CATEGORIES:Referee Training
ORGANIZER;CN="Aaron and Danielle Wolfe":MAILTO:wolfe.refs@gmail.com
END:VEVENT
BEGIN:VEVENT
DTSTART;TZID=America/Detroit:20250202T130000
DTEND;TZID=America/Detroit:20250202T160000
DTSTAMP:20260424T023346
CREATED:20241230T161602Z
LAST-MODIFIED:20241230T161602Z
UID:1182-1738501200-1738512000@nwosoa.org
SUMMARY:New Referee Field Training Session @ Archbold
DESCRIPTION:Become a Youth Soccer Referee 2024-2025 Flyer
URL:https://nwosoa.org/event/new-referee-field-training-session-archbold-2/
LOCATION:Archbold Ruihley Park Pavilion\, 320 N. Defiance St.\, Archbold\, OH\, 43502\, United States
CATEGORIES:Referee Training
ORGANIZER;CN="Aaron and Danielle Wolfe":MAILTO:wolfe.refs@gmail.com
END:VEVENT
BEGIN:VEVENT
DTSTART;TZID=America/Detroit:20250118T130000
DTEND;TZID=America/Detroit:20250118T160000
DTSTAMP:20260424T023346
CREATED:20241230T160619Z
LAST-MODIFIED:20241230T160727Z
UID:1174-1737205200-1737216000@nwosoa.org
SUMMARY:New Referee Field Training Session @ Toledo
DESCRIPTION:Become a Youth Soccer Referee 2024-2025 Flyer
URL:https://nwosoa.org/event/new-referee-field-training-session-toledo/
LOCATION:Pacesetter Training Facility\,  5400 W Central Ave\, \, Toledo\,\, OH\, 43615\, United States
CATEGORIES:Referee Training
ORGANIZER;CN="Aaron and Danielle Wolfe":MAILTO:wolfe.refs@gmail.com
END:VEVENT
BEGIN:VEVENT
DTSTART;TZID=America/Detroit:20241013T190000
DTEND;TZID=America/Detroit:20241013T200000
DTSTAMP:20260424T023346
CREATED:20241006T141516Z
LAST-MODIFIED:20241006T141700Z
UID:1142-1728846000-1728849600@nwosoa.org
SUMMARY:OHSAA Local Referee Mtg @ Pacesetter Facility
DESCRIPTION:Tournament Preparations – Tournament Regulations Slideshow
URL:https://nwosoa.org/event/ohsaa-local-referee-mtg-pacesetter-facility-8/
LOCATION:Pacesetter Training Facility\,  5400 W Central Ave\, \, Toledo\,\, OH\, 43615\, United States
CATEGORIES:OHSAA Event,Referee Training
END:VEVENT
BEGIN:VEVENT
DTSTART;TZID=America/Detroit:20241006T190000
DTEND;TZID=America/Detroit:20241006T200000
DTSTAMP:20260424T023346
CREATED:20241006T141413Z
LAST-MODIFIED:20241006T141413Z
UID:1140-1728241200-1728244800@nwosoa.org
SUMMARY:OHSAA Local Referee Mtg @ Pacesetter Facility
DESCRIPTION:Tournament Preparation – Tournament Regulations Slideshow
URL:https://nwosoa.org/event/ohsaa-local-referee-mtg-pacesetter-facility-7/
LOCATION:Pacesetter Training Facility\,  5400 W Central Ave\, \, Toledo\,\, OH\, 43615\, United States
CATEGORIES:OHSAA Event,Referee Training
END:VEVENT
BEGIN:VEVENT
DTSTART;TZID=America/Detroit:20240728T190000
DTEND;TZID=America/Detroit:20240728T200000
DTSTAMP:20260424T023346
CREATED:20240728T174913Z
LAST-MODIFIED:20240728T174913Z
UID:1127-1722193200-1722196800@nwosoa.org
SUMMARY:OHSAA Local Referee Mtg @ Pacesetter Facility
DESCRIPTION:
URL:https://nwosoa.org/event/ohsaa-local-referee-mtg-pacesetter-facility/
LOCATION:Pacesetter Training Facility\,  5400 W Central Ave\, \, Toledo\,\, OH\, 43615\, United States
CATEGORIES:OHSAA Event,Referee Training
END:VEVENT
BEGIN:VEVENT
DTSTART;TZID=America/Detroit:20240310T130000
DTEND;TZID=America/Detroit:20240310T160000
DTSTAMP:20260424T023346
CREATED:20240106T205624Z
LAST-MODIFIED:20240106T210002Z
UID:1088-1710075600-1710086400@nwosoa.org
SUMMARY:New Referee Field Training Session @ Pacesetter
DESCRIPTION:Prior to attending this session the new referee must: \n\nComplete the US Soccer Learning Center Online Course as described on the Certification page\nContact Aaron Wolfe to register for this field session\n\nCertification
URL:https://nwosoa.org/event/new-referee-field-training-session-pacesetter/
LOCATION:Pacesetter Training Facility\,  5400 W Central Ave\, \, Toledo\,\, OH\, 43615\, United States
CATEGORIES:Referee Training
ORGANIZER;CN="Aaron and Danielle Wolfe":MAILTO:wolfe.refs@gmail.com
END:VEVENT
BEGIN:VEVENT
DTSTART;TZID=America/Detroit:20240224T090000
DTEND;TZID=America/Detroit:20240224T120000
DTSTAMP:20260424T023346
CREATED:20240106T205230Z
LAST-MODIFIED:20240106T210022Z
UID:1085-1708765200-1708776000@nwosoa.org
SUMMARY:New Referee Field Training Session @ Bluffton
DESCRIPTION:Prior to attending this session the new referee must: \n\nComplete the US Soccer Learning Center Online Course as described on the Certification page\nContact Aaron Wolfe to register for this field session\n\nCertification
URL:https://nwosoa.org/event/new-referee-field-training-session-bluffton/
LOCATION:Bluffton St John Bible Church\, 15988 Road 4\, Pandora\, OH\, 45877\, United States
CATEGORIES:Referee Training
ORGANIZER;CN="Aaron and Danielle Wolfe":MAILTO:wolfe.refs@gmail.com
END:VEVENT
BEGIN:VEVENT
DTSTART;TZID=America/Detroit:20240211T130000
DTEND;TZID=America/Detroit:20240211T160000
DTSTAMP:20260424T023346
CREATED:20240106T204940Z
LAST-MODIFIED:20240106T205934Z
UID:1082-1707656400-1707667200@nwosoa.org
SUMMARY:New Referee Field Training Session @ Archbold
DESCRIPTION:Prior to attending this session the new referee must: \n\nComplete the US Soccer Learning Center Online Course as described on the Certification page\nContact Aaron Wolfe to register for this field session\n\nCertification
URL:https://nwosoa.org/event/new-referee-field-training-session-archbold/
LOCATION:Archbold Ruihley Park Pavilion\, 320 N. Defiance St.\, Archbold\, OH\, 43502\, United States
CATEGORIES:Referee Training
END:VEVENT
BEGIN:VEVENT
DTSTART;TZID=America/Detroit:20240128T120000
DTEND;TZID=America/Detroit:20240128T150000
DTSTAMP:20260424T023346
CREATED:20240106T204416Z
LAST-MODIFIED:20240106T210052Z
UID:1074-1706443200-1706454000@nwosoa.org
SUMMARY:New Referee Field Training Session @ Liberty Benton
DESCRIPTION:Prior to attending this session the new referee must: \n\nComplete the US Soccer Learning Center Online Course as described on the Certification page\nContact Aaron Wolfe to register for this field session\n\nCertification
URL:https://nwosoa.org/event/new-referee-field-training-session-3/
LOCATION:Liberty Benton High School\, 9190 CR 9\, Findlay\, OH\, 45840\, United States
CATEGORIES:Referee Training
ORGANIZER;CN="Aaron and Danielle Wolfe":MAILTO:wolfe.refs@gmail.com
END:VEVENT
BEGIN:VEVENT
DTSTART;TZID=America/Detroit:20240127T090000
DTEND;TZID=America/Detroit:20240127T120000
DTSTAMP:20260424T023346
CREATED:20240106T203902Z
LAST-MODIFIED:20240106T210119Z
UID:1069-1706346000-1706356800@nwosoa.org
SUMMARY:New Referee Field Training Session @ BGSU
DESCRIPTION:Prior to attending this session the new referee must: \n\nComplete the US Soccer Learning Center Online Course as described on the Certification page\nContact Aaron Wolfe to register for this field session\n\nCertification
URL:https://nwosoa.org/event/new-referee-field-training-session-2/
LOCATION:BGSU Perry Field House\, 801 N Mercer Rd.\, Bowling Green\, OH\, 43402\, United States
CATEGORIES:Referee Training
ORGANIZER;CN="Aaron and Danielle Wolfe":MAILTO:wolfe.refs@gmail.com
END:VEVENT
BEGIN:VEVENT
DTSTART;TZID=America/Detroit:20240113T120000
DTEND;TZID=America/Detroit:20240113T150000
DTSTAMP:20260424T023346
CREATED:20240106T203542Z
LAST-MODIFIED:20240106T210419Z
UID:1067-1705147200-1705158000@nwosoa.org
SUMMARY:New Referee Field Training Session @ Pacesetter
DESCRIPTION:Prior to attending this session the new referee must: \n\nComplete the US Soccer Learning Center Online Course as described on the Certification page\nContact Aaron Wolfe to register for this field session\n\nCertification
URL:https://nwosoa.org/event/new-referee-field-training-session/
LOCATION:Pacesetter Training Facility\,  5400 W Central Ave\, \, Toledo\,\, OH\, 43615\, United States
CATEGORIES:Referee Training
ORGANIZER;CN="Aaron and Danielle Wolfe":MAILTO:wolfe.refs@gmail.com
END:VEVENT
END:VCALENDAR