BEGIN:VCALENDAR
VERSION:2.0
PRODID:-//nwosoa.org - ECPv6.15.17//NONSGML v1.0//EN
CALSCALE:GREGORIAN
METHOD:PUBLISH
X-WR-CALNAME:nwosoa.org
X-ORIGINAL-URL:https://nwosoa.org
X-WR-CALDESC:Events for nwosoa.org
REFRESH-INTERVAL;VALUE=DURATION:PT1H
X-Robots-Tag:noindex
X-PUBLISHED-TTL:PT1H
BEGIN:VTIMEZONE
TZID:America/Detroit
BEGIN:DAYLIGHT
TZOFFSETFROM:-0500
TZOFFSETTO:-0400
TZNAME:EDT
DTSTART:20230312T070000
END:DAYLIGHT
BEGIN:STANDARD
TZOFFSETFROM:-0400
TZOFFSETTO:-0500
TZNAME:EST
DTSTART:20231105T060000
END:STANDARD
BEGIN:DAYLIGHT
TZOFFSETFROM:-0500
TZOFFSETTO:-0400
TZNAME:EDT
DTSTART:20240310T070000
END:DAYLIGHT
BEGIN:STANDARD
TZOFFSETFROM:-0400
TZOFFSETTO:-0500
TZNAME:EST
DTSTART:20241103T060000
END:STANDARD
BEGIN:DAYLIGHT
TZOFFSETFROM:-0500
TZOFFSETTO:-0400
TZNAME:EDT
DTSTART:20250309T070000
END:DAYLIGHT
BEGIN:STANDARD
TZOFFSETFROM:-0400
TZOFFSETTO:-0500
TZNAME:EST
DTSTART:20251102T060000
END:STANDARD
END:VTIMEZONE
BEGIN:VEVENT
DTSTART;TZID=America/Detroit:20240728T190000
DTEND;TZID=America/Detroit:20240728T200000
DTSTAMP:20260425T065004
CREATED:20240728T174913Z
LAST-MODIFIED:20240728T174913Z
UID:1127-1722193200-1722196800@nwosoa.org
SUMMARY:OHSAA Local Referee Mtg @ Pacesetter Facility
DESCRIPTION:
URL:https://nwosoa.org/event/ohsaa-local-referee-mtg-pacesetter-facility/
LOCATION:Pacesetter Training Facility\,  5400 W Central Ave\, \, Toledo\,\, OH\, 43615\, United States
CATEGORIES:OHSAA Event,Referee Training
END:VEVENT
END:VCALENDAR