BEGIN:VCALENDAR
VERSION:2.0
PRODID:-//nwosoa.org - ECPv6.15.17//NONSGML v1.0//EN
CALSCALE:GREGORIAN
METHOD:PUBLISH
X-WR-CALNAME:nwosoa.org
X-ORIGINAL-URL:https://nwosoa.org
X-WR-CALDESC:Events for nwosoa.org
REFRESH-INTERVAL;VALUE=DURATION:PT1H
X-Robots-Tag:noindex
X-PUBLISHED-TTL:PT1H
BEGIN:VTIMEZONE
TZID:America/Detroit
BEGIN:DAYLIGHT
TZOFFSETFROM:-0500
TZOFFSETTO:-0400
TZNAME:EDT
DTSTART:20230312T070000
END:DAYLIGHT
BEGIN:STANDARD
TZOFFSETFROM:-0400
TZOFFSETTO:-0500
TZNAME:EST
DTSTART:20231105T060000
END:STANDARD
BEGIN:DAYLIGHT
TZOFFSETFROM:-0500
TZOFFSETTO:-0400
TZNAME:EDT
DTSTART:20240310T070000
END:DAYLIGHT
BEGIN:STANDARD
TZOFFSETFROM:-0400
TZOFFSETTO:-0500
TZNAME:EST
DTSTART:20241103T060000
END:STANDARD
BEGIN:DAYLIGHT
TZOFFSETFROM:-0500
TZOFFSETTO:-0400
TZNAME:EDT
DTSTART:20250309T070000
END:DAYLIGHT
BEGIN:STANDARD
TZOFFSETFROM:-0400
TZOFFSETTO:-0500
TZNAME:EST
DTSTART:20251102T060000
END:STANDARD
END:VTIMEZONE
BEGIN:VEVENT
DTSTART;TZID=America/Detroit:20240310T130000
DTEND;TZID=America/Detroit:20240310T160000
DTSTAMP:20260425T130006
CREATED:20240106T205624Z
LAST-MODIFIED:20240106T210002Z
UID:1088-1710075600-1710086400@nwosoa.org
SUMMARY:New Referee Field Training Session @ Pacesetter
DESCRIPTION:Prior to attending this session the new referee must: \n\nComplete the US Soccer Learning Center Online Course as described on the Certification page\nContact Aaron Wolfe to register for this field session\n\nCertification
URL:https://nwosoa.org/event/new-referee-field-training-session-pacesetter/
LOCATION:Pacesetter Training Facility\,  5400 W Central Ave\, \, Toledo\,\, OH\, 43615\, United States
CATEGORIES:Referee Training
ORGANIZER;CN="Aaron and Danielle Wolfe":MAILTO:wolfe.refs@gmail.com
END:VEVENT
END:VCALENDAR