BEGIN:VCALENDAR
VERSION:2.0
PRODID:-//nwosoa.org - ECPv6.15.17//NONSGML v1.0//EN
CALSCALE:GREGORIAN
METHOD:PUBLISH
X-ORIGINAL-URL:https://nwosoa.org
X-WR-CALDESC:Events for nwosoa.org
REFRESH-INTERVAL;VALUE=DURATION:PT1H
X-Robots-Tag:noindex
X-PUBLISHED-TTL:PT1H
BEGIN:VTIMEZONE
TZID:America/Detroit
BEGIN:DAYLIGHT
TZOFFSETFROM:-0500
TZOFFSETTO:-0400
TZNAME:EDT
DTSTART:20210314T070000
END:DAYLIGHT
BEGIN:STANDARD
TZOFFSETFROM:-0400
TZOFFSETTO:-0500
TZNAME:EST
DTSTART:20211107T060000
END:STANDARD
BEGIN:DAYLIGHT
TZOFFSETFROM:-0500
TZOFFSETTO:-0400
TZNAME:EDT
DTSTART:20220313T070000
END:DAYLIGHT
BEGIN:STANDARD
TZOFFSETFROM:-0400
TZOFFSETTO:-0500
TZNAME:EST
DTSTART:20221106T060000
END:STANDARD
BEGIN:DAYLIGHT
TZOFFSETFROM:-0500
TZOFFSETTO:-0400
TZNAME:EDT
DTSTART:20230312T070000
END:DAYLIGHT
BEGIN:STANDARD
TZOFFSETFROM:-0400
TZOFFSETTO:-0500
TZNAME:EST
DTSTART:20231105T060000
END:STANDARD
BEGIN:DAYLIGHT
TZOFFSETFROM:-0500
TZOFFSETTO:-0400
TZNAME:EDT
DTSTART:20240310T070000
END:DAYLIGHT
BEGIN:STANDARD
TZOFFSETFROM:-0400
TZOFFSETTO:-0500
TZNAME:EST
DTSTART:20241103T060000
END:STANDARD
END:VTIMEZONE
BEGIN:VEVENT
DTSTART;TZID=America/Detroit:20230806T190000
DTEND;TZID=America/Detroit:20230806T200000
DTSTAMP:20260423T211004
CREATED:20230721T024040Z
LAST-MODIFIED:20230721T041241Z
UID:913-1691348400-1691352000@nwosoa.org
SUMMARY:OHSAA Local Clinic
DESCRIPTION:
URL:https://nwosoa.org/event/ohsaa-local-clinic-2/
LOCATION:Pacesetter Training Facility\,  5400 W Central Ave\, \, Toledo\,\, OH\, 43615\, United States
CATEGORIES:OHSAA Event
END:VEVENT
BEGIN:VEVENT
DTSTART;TZID=America/Detroit:20230730T190000
DTEND;TZID=America/Detroit:20230730T200000
DTSTAMP:20260423T211004
CREATED:20230721T023834Z
LAST-MODIFIED:20230721T041255Z
UID:911-1690743600-1690747200@nwosoa.org
SUMMARY:OHSAA Local Clinic
DESCRIPTION:
URL:https://nwosoa.org/event/ohsaa-local-clinic/
LOCATION:Pacesetter Training Facility\,  5400 W Central Ave\, \, Toledo\,\, OH\, 43615\, United States
CATEGORIES:OHSAA Event
END:VEVENT
BEGIN:VEVENT
DTSTART;TZID=America/Detroit:20230724T190000
DTEND;TZID=America/Detroit:20230724T200000
DTSTAMP:20260423T211004
CREATED:20230618T180751Z
LAST-MODIFIED:20230721T023502Z
UID:894-1690225200-1690228800@nwosoa.org
SUMMARY:OHSAA Mandatory State Rules Meeting & Local Meeting
DESCRIPTION:
URL:https://nwosoa.org/event/ohsaa-mandatory-state-rules-meeting/
LOCATION:Southview High School Auditorium\, 7225 W Sylvania Ave.\, Sylvania\, OH\, 43560\, United States
CATEGORIES:OHSAA Event
END:VEVENT
BEGIN:VEVENT
DTSTART;TZID=America/Detroit:20220828T183000
DTEND;TZID=America/Detroit:20220828T193000
DTSTAMP:20260423T211004
CREATED:20220730T011337Z
LAST-MODIFIED:20220731T001242Z
UID:725-1661711400-1661715000@nwosoa.org
SUMMARY:OHSAA Local Meeting: Procedures
DESCRIPTION:Terry Konz will present on the Procedural tasks that keep us out of trouble: \n\nPre-game routines\nWater breaks\nConcussion protocols\nSubstitution rules for YC and injuries\nGuidelines in dealing with misconduct from players\, coaches\, spectators\nFiling MyOHSAA Game Reports: RC\, concussion/injuries\, field/uniform\, sportsmanship with examples of descriptions
URL:https://nwosoa.org/event/ohsaa-local-meeting-3/
LOCATION:OH
CATEGORIES:OHSAA Event
END:VEVENT
BEGIN:VEVENT
DTSTART;TZID=America/Detroit:20220821T183000
DTEND;TZID=America/Detroit:20220821T193000
DTSTAMP:20260423T211004
CREATED:20220730T011300Z
LAST-MODIFIED:20220731T000906Z
UID:723-1661106600-1661110200@nwosoa.org
SUMMARY:OHSAA Local Meeting: 2-Whistle System
DESCRIPTION:Tred Hurst will present 2-Whistle System positioning and tactics.
URL:https://nwosoa.org/event/ohsaa-local-meeting-2/
LOCATION:Pacesetter Training Facility\,  5400 W Central Ave\, \, Toledo\,\, OH\, 43615\, United States
CATEGORIES:OHSAA Event
END:VEVENT
BEGIN:VEVENT
DTSTART;TZID=America/Detroit:20220814T183000
DTEND;TZID=America/Detroit:20220814T193000
DTSTAMP:20260423T211004
CREATED:20220730T011215Z
LAST-MODIFIED:20220731T000731Z
UID:721-1660501800-1660505400@nwosoa.org
SUMMARY:OHSAA Local Meeting: Game Management
DESCRIPTION:Stephen Castro will present game management strategies.
URL:https://nwosoa.org/event/ohsaa-local-meeting/
LOCATION:Pacesetter Training Facility\,  5400 W Central Ave\, \, Toledo\,\, OH\, 43615\, United States
CATEGORIES:OHSAA Event
END:VEVENT
BEGIN:VEVENT
DTSTART;VALUE=DATE:20220802
DTEND;VALUE=DATE:20220803
DTSTAMP:20260423T211004
CREATED:20220703T173648Z
LAST-MODIFIED:20220703T173648Z
UID:697-1659398400-1659484799@nwosoa.org
SUMMARY:OHSAA First Day Previews and Scrimmages Permitted
DESCRIPTION:
URL:https://nwosoa.org/event/ohsaa-first-day-previews-and-scrimmages-permitted/
LOCATION:OH
CATEGORIES:OHSAA Event
END:VEVENT
BEGIN:VEVENT
DTSTART;VALUE=DATE:20220605
DTEND;VALUE=DATE:20220716
DTSTAMP:20260423T211004
CREATED:20220605T155149Z
LAST-MODIFIED:20220703T164004Z
UID:654-1654387200-1657929599@nwosoa.org
SUMMARY:OHSAA Officials - Renew your permits!
DESCRIPTION:Deadline to Renew Without a Late Fee:  June 30 \nDeadline to Renew WITH $50 Late Fee:  July 15 \n  \nOfficials returning after not officiating for a year or more:  Go to:  OHSAA > Officiating > Become an Official > Inactive Officials Wanting to Return to Active Status\nQuestions? Email Charles Anderson at canderson@ohsaa.org \nRenewal Summary \n\nStarting June 1\, login to myOHSAA at http://officials.myohsaa.org/Logon to renew your permit. You may renew using a credit card or by entering your bank account information. Renewal fees are $60 for the first sport and $30 for each additional sport when completed prior to midnight ET on the date listed above.\nA $50 late fee will be charged for renewals completed after midnight ET of the deadline to renew without a late fee date outlined in the table above.\nPermits must be renewed by midnight ET on the date listed in the Deadline to Renew Without a Late Fee column in the table above to remain active and avoid a late fee.\nYou will be prompted to review and update your myOHSAA profile with any mailing address changes to ensure that all OHSAA mailings\, including rule books\, are received.\nWhile we have made very limited exceptions prior to the pandemic by allowing officials to renew in-person\, we will not accept any in-person renewals this year. All renewals must be completed online through myOHSAA.\nOfficials with a permit in multiple seasons may choose to renew each sport at separate times while still receiving the additional sport fee reduction. An official will receive the additional sport fee reduction throughout the year\, but the late fee will still apply to the prescribed timelines.\nRenewing a permit does not provide or imply a guarantee of OHSAA officiating assignments in the season renewed. There will be no refunds or transfers of officiating fees to the following school year in the event that the sport season is cancelled.\n\nForgot your MyOHSAA Password? \nClick on the “Forgot Login” link at the login screen and enter your permit number provided above to have your username and a link to reset your password emailed to you. If you can no longer access the email address on your profile\, contact our office at officiating@ohsaa.org or 614-267-2502\, ext. 123 ASAP. Please leave a voicemail if no one answers and your call will be returned as soon as possible. Do not wait until the renewal deadline to make sure you have access to your account!! \nConcussion certification is good for 3 years \nIf your certification has expired\, you must recertify and enter your certification information in myOHSAA prior to being able to renew your permit. If you need assistance renewing your concussion certification\, please view this step-by-step resource: https://www.ohsaa.org/Portals/0/Officiating/forms/ConcussionTrainingWalkthrough.pdf \nProblems? \nIf you are having problems with the renewal process\, you can view login troubleshooting at http://www.ohsaa.org/Portals/0/Officiating/InstructionsLogin.pdf?ver=2017-05-30-153544-157 and email verification troubleshooting at http://www.ohsaa.org/Portals/0/Officiating/Instructions-Verify-Email.pdf?ver=2017-05-30-153543-730 \nPlease note\, if you change your email prior to renewing your permit\, you must complete the email verification process for that change to be reflected on your myOHSAA account. \nPayments after the June 30 deadline to renew without a late fee will not be accepted without the additional $50 late fee. The last possible date to renew your permit\, with the late fee\, is July 15.
URL:https://nwosoa.org/event/ohsaa-officials-renew-your-permits/
LOCATION:OH
CATEGORIES:OHSAA Event
END:VEVENT
END:VCALENDAR