BEGIN:VCALENDAR
VERSION:2.0
PRODID:-//nwosoa.org - ECPv6.15.17//NONSGML v1.0//EN
CALSCALE:GREGORIAN
METHOD:PUBLISH
X-ORIGINAL-URL:https://nwosoa.org
X-WR-CALDESC:Events for nwosoa.org
REFRESH-INTERVAL;VALUE=DURATION:PT1H
X-Robots-Tag:noindex
X-PUBLISHED-TTL:PT1H
BEGIN:VTIMEZONE
TZID:America/Detroit
BEGIN:DAYLIGHT
TZOFFSETFROM:-0500
TZOFFSETTO:-0400
TZNAME:EDT
DTSTART:20230312T070000
END:DAYLIGHT
BEGIN:STANDARD
TZOFFSETFROM:-0400
TZOFFSETTO:-0500
TZNAME:EST
DTSTART:20231105T060000
END:STANDARD
BEGIN:DAYLIGHT
TZOFFSETFROM:-0500
TZOFFSETTO:-0400
TZNAME:EDT
DTSTART:20240310T070000
END:DAYLIGHT
BEGIN:STANDARD
TZOFFSETFROM:-0400
TZOFFSETTO:-0500
TZNAME:EST
DTSTART:20241103T060000
END:STANDARD
BEGIN:DAYLIGHT
TZOFFSETFROM:-0500
TZOFFSETTO:-0400
TZNAME:EDT
DTSTART:20250309T070000
END:DAYLIGHT
BEGIN:STANDARD
TZOFFSETFROM:-0400
TZOFFSETTO:-0500
TZNAME:EST
DTSTART:20251102T060000
END:STANDARD
END:VTIMEZONE
BEGIN:VEVENT
DTSTART;VALUE=DATE:20240205
DTEND;VALUE=DATE:20240210
DTSTAMP:20260425T092331
CREATED:20240106T210806Z
LAST-MODIFIED:20240106T211045Z
UID:1099-1707091200-1707523199@nwosoa.org
SUMMARY:Reminder: OHSAA Referees update calendar blocks on DragonFly
DESCRIPTION:It is that time of year again when Karen will begin to schedule the initial rounds of games in DragonFly. Please block dates that you know about for August-October.
URL:https://nwosoa.org/event/reminder-ohsaa-referees-update-calendar-blocks-on-dragonfly/
LOCATION:OH
CATEGORIES:OHSAA Event
END:VEVENT
END:VCALENDAR