BEGIN:VCALENDAR
VERSION:2.0
PRODID:-//nwosoa.org - ECPv6.15.17//NONSGML v1.0//EN
CALSCALE:GREGORIAN
METHOD:PUBLISH
X-WR-CALNAME:nwosoa.org
X-ORIGINAL-URL:https://nwosoa.org
X-WR-CALDESC:Events for nwosoa.org
REFRESH-INTERVAL;VALUE=DURATION:PT1H
X-Robots-Tag:noindex
X-PUBLISHED-TTL:PT1H
BEGIN:VTIMEZONE
TZID:America/Detroit
BEGIN:DAYLIGHT
TZOFFSETFROM:-0500
TZOFFSETTO:-0400
TZNAME:EDT
DTSTART:20210314T070000
END:DAYLIGHT
BEGIN:STANDARD
TZOFFSETFROM:-0400
TZOFFSETTO:-0500
TZNAME:EST
DTSTART:20211107T060000
END:STANDARD
BEGIN:DAYLIGHT
TZOFFSETFROM:-0500
TZOFFSETTO:-0400
TZNAME:EDT
DTSTART:20220313T070000
END:DAYLIGHT
BEGIN:STANDARD
TZOFFSETFROM:-0400
TZOFFSETTO:-0500
TZNAME:EST
DTSTART:20221106T060000
END:STANDARD
BEGIN:DAYLIGHT
TZOFFSETFROM:-0500
TZOFFSETTO:-0400
TZNAME:EDT
DTSTART:20230312T070000
END:DAYLIGHT
BEGIN:STANDARD
TZOFFSETFROM:-0400
TZOFFSETTO:-0500
TZNAME:EST
DTSTART:20231105T060000
END:STANDARD
BEGIN:DAYLIGHT
TZOFFSETFROM:-0500
TZOFFSETTO:-0400
TZNAME:EDT
DTSTART:20240310T070000
END:DAYLIGHT
BEGIN:STANDARD
TZOFFSETFROM:-0400
TZOFFSETTO:-0500
TZNAME:EST
DTSTART:20241103T060000
END:STANDARD
BEGIN:DAYLIGHT
TZOFFSETFROM:-0500
TZOFFSETTO:-0400
TZNAME:EDT
DTSTART:20250309T070000
END:DAYLIGHT
BEGIN:STANDARD
TZOFFSETFROM:-0400
TZOFFSETTO:-0500
TZNAME:EST
DTSTART:20251102T060000
END:STANDARD
BEGIN:DAYLIGHT
TZOFFSETFROM:-0500
TZOFFSETTO:-0400
TZNAME:EDT
DTSTART:20260308T070000
END:DAYLIGHT
BEGIN:STANDARD
TZOFFSETFROM:-0400
TZOFFSETTO:-0500
TZNAME:EST
DTSTART:20261101T060000
END:STANDARD
BEGIN:DAYLIGHT
TZOFFSETFROM:-0500
TZOFFSETTO:-0400
TZNAME:EDT
DTSTART:20270314T070000
END:DAYLIGHT
BEGIN:STANDARD
TZOFFSETFROM:-0400
TZOFFSETTO:-0500
TZNAME:EST
DTSTART:20271107T060000
END:STANDARD
END:VTIMEZONE
BEGIN:VEVENT
DTSTART;TZID=America/Detroit:20260416T190000
DTEND;TZID=America/Detroit:20260416T203000
DTSTAMP:20260425T152534
CREATED:20260225T220125Z
LAST-MODIFIED:20260225T220125Z
UID:1334-1776366000-1776371400@nwosoa.org
SUMMARY:NWOSOA Board Meeting
DESCRIPTION:
URL:https://nwosoa.org/event/nwosoa-board-meeting-2/
LOCATION:El Vaquero Perrysburg\, 26611 N Dixie Hwy\, Perrysburg\, OH\, 43551\, United States
CATEGORIES:NWOSOA Meeting
END:VEVENT
BEGIN:VEVENT
DTSTART;TZID=America/Detroit:20260319T190000
DTEND;TZID=America/Detroit:20260319T203000
DTSTAMP:20260425T152534
CREATED:20260225T220034Z
LAST-MODIFIED:20260225T220034Z
UID:1332-1773946800-1773952200@nwosoa.org
SUMMARY:NWOSOA Board Meeting
DESCRIPTION:
URL:https://nwosoa.org/event/nwosoa-board-meeting/
LOCATION:El Vaquero Perrysburg\, 26611 N Dixie Hwy\, Perrysburg\, OH\, 43551\, United States
CATEGORIES:NWOSOA Meeting
END:VEVENT
BEGIN:VEVENT
DTSTART;TZID=America/Detroit:20250126T063000
DTEND;TZID=America/Detroit:20250126T193000
DTSTAMP:20260425T152534
CREATED:20241230T162807Z
LAST-MODIFIED:20241230T162905Z
UID:1189-1737873000-1737919800@nwosoa.org
SUMMARY:NWOSOA Annual Member Meeting @ BWW
DESCRIPTION:Annual business meeting for all NWOSOA members. \nWe will be reviewing the past year and voting on the new Board for 2025. Please feel free to toss your name in or nominate someone you believe would be good to be on the Board. All positions are open – President\, Vice President\, Secretary\, Treasurer\, and 4 members at large. \nContact Barb Nye or any Board member if you have questions.
URL:https://nwosoa.org/event/nwosoa-annual-meeting-bww/
LOCATION:Buffalo Wild Wings\, 6710 Central Ave\, \, OH 43617\, OH\, 43617\, United States
CATEGORIES:NWOSOA Meeting
END:VEVENT
BEGIN:VEVENT
DTSTART;TZID=America/Detroit:20250116T070000
DTEND;TZID=America/Detroit:20250116T203000
DTSTAMP:20260425T152534
CREATED:20241230T163331Z
LAST-MODIFIED:20241230T163331Z
UID:1192-1737010800-1737059400@nwosoa.org
SUMMARY:NWOSOA Board Mtg
DESCRIPTION:Prepare for annual meeting
URL:https://nwosoa.org/event/nwosoa-board-mtg-8/
LOCATION:El Vaquero Perrysburg\, 26611 N Dixie Hwy\, Perrysburg\, OH\, 43551\, United States
CATEGORIES:NWOSOA Meeting
END:VEVENT
BEGIN:VEVENT
DTSTART;TZID=America/Detroit:20240121T180000
DTEND;TZID=America/Detroit:20240121T200000
DTSTAMP:20260425T152534
CREATED:20231118T182018Z
LAST-MODIFIED:20240109T203800Z
UID:1005-1705860000-1705867200@nwosoa.org
SUMMARY:NWOSOA Annual Meeting @ BWW
DESCRIPTION:Annual business meeting for all NWOSOA 2023 members. \nWe will be reviewing the past year and voting on the new Board for 2024. Please feel free to toss your name in or nominate someone you believe would be good to be on the Board. All positions are open – President\, Vice President\, Secretary\, Treasurer\, and 4 members at large. \nContact Barb Nye or any Board member if you have questions.
URL:https://nwosoa.org/event/nwosoa-annual-meeting/
LOCATION:Buffalo Wild Wings\, 6710 Central Ave\, \, OH 43617\, OH\, 43617\, United States
CATEGORIES:NWOSOA Meeting
END:VEVENT
BEGIN:VEVENT
DTSTART;TZID=America/Detroit:20240118T190000
DTEND;TZID=America/Detroit:20240118T203000
DTSTAMP:20260425T152534
CREATED:20240106T202957Z
LAST-MODIFIED:20240106T203030Z
UID:1065-1705604400-1705609800@nwosoa.org
SUMMARY:NWOSOA Board Mtg
DESCRIPTION:
URL:https://nwosoa.org/event/nwosoa-board-mtg-7/
CATEGORIES:NWOSOA Meeting
END:VEVENT
BEGIN:VEVENT
DTSTART;TZID=America/Detroit:20230817T190000
DTEND;TZID=America/Detroit:20230817T203000
DTSTAMP:20260425T152534
CREATED:20230721T042413Z
LAST-MODIFIED:20230721T042413Z
UID:946-1692298800-1692304200@nwosoa.org
SUMMARY:NWOSOA Board Mtg
DESCRIPTION:
URL:https://nwosoa.org/event/nwosoa-board-mtg-6/
CATEGORIES:NWOSOA Meeting
END:VEVENT
BEGIN:VEVENT
DTSTART;TZID=America/Detroit:20230615T190000
DTEND;TZID=America/Detroit:20230615T200000
DTSTAMP:20260425T152534
CREATED:20230618T180853Z
LAST-MODIFIED:20230618T180853Z
UID:896-1686855600-1686859200@nwosoa.org
SUMMARY:NWOSOA Board Mtg
DESCRIPTION:
URL:https://nwosoa.org/event/nwosoa-board-mtg/
CATEGORIES:NWOSOA Meeting
END:VEVENT
BEGIN:VEVENT
DTSTART;VALUE=DATE:20220812
DTEND;VALUE=DATE:20220813
DTSTAMP:20260425T152534
CREATED:20220703T173724Z
LAST-MODIFIED:20220703T173724Z
UID:699-1660262400-1660348799@nwosoa.org
SUMMARY:OHSAA First Date of Competition
DESCRIPTION:
URL:https://nwosoa.org/event/ohsaa-first-date-of-competition/
CATEGORIES:NWOSOA Meeting
END:VEVENT
BEGIN:VEVENT
DTSTART;TZID=America/Detroit:20220209T183000
DTEND;TZID=America/Detroit:20220209T200000
DTSTAMP:20260425T152534
CREATED:20220130T050508Z
LAST-MODIFIED:20220207T005023Z
UID:555-1644431400-1644436800@nwosoa.org
SUMMARY:Annual NWOSOA Member Meeting
DESCRIPTION:The meeting will be held at the Holland Branch Library on South McCord\, a half mile north of Springfield HS. Members who cannot attend in person will be able to view via Zoom. The Zoom credentials will be emailed to the membership.
URL:https://nwosoa.org/event/annual-nwosoa-member-meeting/
LOCATION:Holland Branch Library 1032 McCord Road Holland\, Ohio 43528\, 1032 S McCord Rd.\, Holland\, OH\, 43528\, United States
CATEGORIES:NWOSOA Meeting
END:VEVENT
END:VCALENDAR